BEGIN:VCALENDAR
VERSION:2.0
PRODID:-//Perinatal Life Support - ECPv6.0.9//NONSGML v1.0//EN
CALSCALE:GREGORIAN
METHOD:PUBLISH
X-ORIGINAL-URL:https://perinatallifesupport.eu
X-WR-CALDESC:Events for Perinatal Life Support
REFRESH-INTERVAL;VALUE=DURATION:PT1H
X-Robots-Tag:noindex
X-PUBLISHED-TTL:PT1H
BEGIN:VTIMEZONE
TZID:UTC
BEGIN:STANDARD
TZOFFSETFROM:+0000
TZOFFSETTO:+0000
TZNAME:UTC
DTSTART:20210101T000000
END:STANDARD
END:VTIMEZONE
BEGIN:VEVENT
DTSTART;TZID=UTC:20210907T080000
DTEND;TZID=UTC:20210911T170000
DTSTAMP:20260419T172447
CREATED:20210323T110823Z
LAST-MODIFIED:20210323T110823Z
UID:916-1631001600-1631379600@perinatallifesupport.eu
SUMMARY:ESAO
DESCRIPTION:
URL:https://perinatallifesupport.eu/event/esao/
LOCATION:London\, UK
END:VEVENT
BEGIN:VEVENT
DTSTART;TZID=UTC:20210711T080000
DTEND;TZID=UTC:20210714T170000
DTSTAMP:20260419T172447
CREATED:20210323T111113Z
LAST-MODIFIED:20210323T111113Z
UID:919-1625990400-1626282000@perinatallifesupport.eu
SUMMARY:Europen society biomechanics (ESB) 2021
DESCRIPTION:
URL:https://perinatallifesupport.eu/event/europen-society-biomechanics-esb-2021/
LOCATION:Milan\, Italy
END:VEVENT
END:VCALENDAR